Workbook

Sheet Region ___
A2: FY27 Planned Services and Expenditures - Senior In-Home Services
A3: Complete one form for each region served (using the tabs at the bottom)
A5: Grantee:
A6: Region: | C6: (complete one form for each region)
A8: FY27 Proposed Services
B9: # of individuals to be served | C9: # of units | E9: Is this less than was proposed in FY26? If so, provide explanation
A10: Case Management | D10: contacts
A11: Chore | D11: hours
A12: Respite | D12: hours
A13: Extended Respite | D13: days or 1/2 days (.5)
A14: SIH Personal Care | D14: hours
A15: Service Coordination | D15: contacts
A16: Supplemental Services | D16: occurrences
A17: Total UNDUPLICATED registered served*
A19: Unregistered Information and Assistance | D19: contacts
A20: Unregistered Outreach/Education | D20: occurrences/events
A22: *this number is the total of unduplicated registered individuals served. Often, individuals have more than 1 service. For each service the individual should be counted but for total unduplicated registered, the individuals should be counted only once no matter how many services they receive.
A25: FY 2027 Expenditures by service category
B26: SIH Grant funds | C26: Required Match | D26: Additional match/project support | E26: Total
A27: Case management | E27: =SUM(B27:D27) -> 0
A28: Chore | E28: =SUM(B28:D28) -> 0
A29: Respite | E29: =SUM(B29:D29) -> 0
A30: Extended Respite | E30: =SUM(B30:D30) -> 0
A31: SIH Personal Care | E31: =SUM(B31:D31) -> 0
A32: Service Coordination | E32: =SUM(B32:D32) -> 0
A33: Supplemental Services | E33: =SUM(B33:D33) -> 0
A34: Unregistered Information and Assistance | E34: =SUM(B34:D34) -> 0
A35: Unregistered Services (Outreach/Community Ed) | E35: =SUM(B35:D35) -> 0
A36: Total | B36: =SUM(B27:B33) -> 0 | C36: =SUM(C27:C35) -> 0 | D36: =SUM(D27:D35) -> 0 | E36: =SUM(E27:E35) -> 0
C37: Totals must match totals on budget form*
A38: *if services are provided in only one region, the totals must match proposed budget here. If services are provided in multiple regions, the totals on the final sheet "multi-region total" must match proposed budget
A40: Communities to be served in a region (If services are the same for multiple communities, they may be listed as shown in the example) | C40: Number of individuals to be served in each community | D40: Indicate service(s) for each community: All, CM=Case Management, SC= Service Coordination, C=Chore, PC= Personal Care, R=Respite, ER=Extended Respite, SS= Supplemental Services, US = Unregistered Services (Outreach/Community Ed)
A41: EXAMPLE: Allakaket | C41: 1 | D41: CM, C, SS

Sheet Region ___ (2)
A2: FY27 Planned Services and Expenditures - Senior In-Home Services
A3: Complete one form for each region served (using the tabs at the bottom)
A5: Grantee:
A6: Region: | C6: (complete one form for each region)
A8: FY27 Proposed Services
B9: # of individuals to be served | C9: # of units | E9: Is this less than was proposed in FY26? If so, provide explanation
A10: Case Management | D10: contacts
A11: Chore | D11: hours
A12: Respite | D12: hours
A13: Extended Respite | D13: days or 1/2 days (.5)
A14: SIH Personal Care | D14: hours
A15: Service Coordination | D15: contacts
A16: Supplemental Services | D16: occurrences
A17: Total UNDUPLICATED registered served*
A19: Unregistered Information and Assistance | D19: contacts
A20: Unregistered Outreach/Education | D20: occurrences/events
A22: *this number is the total of unduplicated registered individuals served. Often, individuals have more than 1 service. For each service the individual should be counted but for total unduplicated registered, the individuals should be counted only once no matter how many services they receive.
A25: FY 2027 Expenditures by service category
B26: SIH Grant funds | C26: Required Match | D26: Additional match/project support | E26: Total
A27: Case management | E27: =SUM(B27:D27) -> 0
A28: Chore | E28: =SUM(B28:D28) -> 0
A29: Respite | E29: =SUM(B29:D29) -> 0
A30: Extended Respite | E30: =SUM(B30:D30) -> 0
A31: SIH Personal Care | E31: =SUM(B31:D31) -> 0
A32: Service Coordination | E32: =SUM(B32:D32) -> 0
A33: Supplemental Services | E33: =SUM(B33:D33) -> 0
A34: Unregistered Information and Assistance | E34: =SUM(B34:D34) -> 0
A35: Unregistered Services (Outreach/Community Ed) | E35: =SUM(B35:D35) -> 0
A36: Total | B36: =SUM(B27:B33) -> 0 | C36: =SUM(C27:C35) -> 0 | D36: =SUM(D27:D35) -> 0 | E36: =SUM(E27:E35) -> 0
C37: Totals must match totals on budget form*
A38: *if services are provided in only one region, the totals must match proposed budget here. If services are provided in multiple regions, the totals on the final sheet "multi-region total" must match proposed budget
A40: Communities to be served in a region (If services are the same for multiple communities, they may be listed as shown in the example) | C40: Number of individuals to be served in each community | D40: Indicate service(s) for each community: All, CM=Case Management, SC= Service Coordination, C=Chore, PC= Personal Care, R=Respite, ER=Extended Respite, SS= Supplemental Services, US = Unregistered Services (Outreach/Community Ed)
A41: EXAMPLE: Allakaket | C41: 1 | D41: CM, C, SS

Sheet Region ___ (3)
A2: FY27 Planned Services and Expenditures - Senior In-Home Services
A3: Complete one form for each region served (using the tabs at the bottom)
A5: Grantee:
A6: Region: | C6: (complete one form for each region)
A8: FY27 Proposed Services
B9: # of individuals to be served | C9: # of units | E9: Is this less than was proposed in FY26? If so, provide explanation
A10: Case Management | D10: contacts
A11: Chore | D11: hours
A12: Respite | D12: hours
A13: Extended Respite | D13: days or 1/2 days (.5)
A14: SIH Personal Care | D14: hours
A15: Service Coordination | D15: contacts
A16: Supplemental Services | D16: occurrences
A17: Total UNDUPLICATED registered served*
A19: Unregistered Information and Assistance | D19: contacts
A20: Unregistered Outreach/Education | D20: occurrences/events
A22: *this number is the total of unduplicated registered individuals served. Often, individuals have more than 1 service. For each service the individual should be counted but for total unduplicated registered, the individuals should be counted only once no matter how many services they receive.
A25: FY 2027 Expenditures by service category
B26: SIH Grant funds | C26: Required Match | D26: Additional match/project support | E26: Total
A27: Case management | E27: =SUM(B27:D27) -> 0
A28: Chore | E28: =SUM(B28:D28) -> 0
A29: Respite | E29: =SUM(B29:D29) -> 0
A30: Extended Respite | E30: =SUM(B30:D30) -> 0
A31: SIH Personal Care | E31: =SUM(B31:D31) -> 0
A32: Service Coordination | E32: =SUM(B32:D32) -> 0
A33: Supplemental Services | E33: =SUM(B33:D33) -> 0
A34: Unregistered Information and Assistance | E34: =SUM(B34:D34) -> 0
A35: Unregistered Services (Outreach/Community Ed) | E35: =SUM(B35:D35) -> 0
A36: Total | B36: =SUM(B27:B33) -> 0 | C36: =SUM(C27:C35) -> 0 | D36: =SUM(D27:D35) -> 0 | E36: =SUM(E27:E35) -> 0
C37: Totals must match totals on budget form*
A38: *if services are provided in only one region, the totals must match proposed budget here. If services are provided in multiple regions, the totals on the final sheet "multi-region total" must match proposed budget
A40: Communities to be served in a region (If services are the same for multiple communities, they may be listed as shown in the example) | C40: Number of individuals to be served in each community | D40: Indicate service(s) for each community: All, CM=Case Management, SC= Service Coordination, C=Chore, PC= Personal Care, R=Respite, ER=Extended Respite, SS= Supplemental Services, US = Unregistered Services (Outreach/Community Ed)
A41: EXAMPLE: Allakaket | C41: 1 | D41: CM, C, SS

Sheet TOTAL 
A2: FY27 Planned Services and Expenditures - Senior In-Home Services
A3: Complete one form for each region served (using the tabs at the bottom)
A5: Grantee:
A6: Region: | B6: TOTAL OF ALL REGIONS
A8: FY27 Proposed Services
B9: # of individuals to be served | C9: # of units
A10: Case Management | B10: ='Region ___'!B10+'Region ___ (2)'!B10+'Region ___ (3)'!B10 -> 0 | C10: ='Region ___'!C10+'Region ___ (2)'!C10+'Region ___ (3)'!C10 -> 0 | D10: contacts
A11: Chore | B11: ='Region ___'!B11+'Region ___ (2)'!B11+'Region ___ (3)'!B11 -> 0 | C11: ='Region ___'!B11+'Region ___ (2)'!C11+'Region ___ (3)'!C11 -> 0 | D11: hours
A12: Respite | B12: ='Region ___'!B12+'Region ___ (2)'!B12+'Region ___ (3)'!B12 -> 0 | C12: ='Region ___'!C12+'Region ___ (2)'!C12+'Region ___ (3)'!C12 -> 0 | D12: hours
A13: Extended Respite | B13: ='Region ___'!B13+'Region ___ (2)'!B13+'Region ___ (3)'!B13 -> 0 | C13: ='Region ___'!C13+'Region ___ (2)'!C13+'Region ___ (3)'!C13 -> 0 | D13: days or 1/2 days (.5)
A14: SIH Personal Care | B14: ='Region ___'!B14+'Region ___ (2)'!B14+'Region ___ (3)'!B14 -> 0 | D14: hours
A15: Service Coordination | B15: ='Region ___'!B15+'Region ___ (2)'!B15+'Region ___ (3)'!B15 -> 0 | C15: ='Region ___'!C15+'Region ___ (2)'!C15+'Region ___ (3)'!C15 -> 0 | D15: contacts
A16: Supplemental Services | B16: ='Region ___'!B16+'Region ___ (2)'!B16+'Region ___ (3)'!B16 -> 0 | C16: ='Region ___'!C16+'Region ___ (2)'!C16+'Region ___ (3)'!C16 -> 0 | D16: occurrences
A17: Total UNDUPLICATED registered served* | B17: ='Region ___'!B17+'Region ___ (2)'!B17+'Region ___ (3)'!B17 -> 0
A19: Unregistered Information and Assistance | B19: ='Region ___'!B19+'Region ___ (2)'!B19+'Region ___ (3)'!B19 -> 0 | C19: ='Region ___'!C19+'Region ___ (2)'!C19+'Region ___ (3)'!C19 -> 0 | D19: contacts
A20: Unregistered Outreach/Education | B20: ='Region ___'!B20+'Region ___ (2)'!B20+'Region ___ (3)'!B20 -> 0 | C20: ='Region ___'!C20+'Region ___ (2)'!C20+'Region ___ (3)'!C20 -> 0 | D20: occurrences/events
A22: *this number is the total of unduplicated registered individuals served. Often, individuals have more than 1 service. For each service the individual should be counted but for total unduplicated registered, the individuals should be counted only once no matter how many services they receive.
A25: FY 2027 Expenditures by service category
B26: SIH Grant funds | C26: Required Match | D26: Additional match/project support | E26: Total
A27: Case management | B27: ='Region ___'!B27+'Region ___ (2)'!B27+'Region ___ (3)'!B27 -> 0 | C27: ='Region ___'!C27+'Region ___ (2)'!C27+'Region ___ (3)'!C27 -> 0 | D27: ='Region ___'!D27+'Region ___ (2)'!D27+'Region ___ (3)'!D27 -> 0 | E27: =SUM(B27:D27) -> 0
A28: Chore | B28: ='Region ___'!B28+'Region ___ (2)'!B28+'Region ___ (3)'!B28 -> 0 | C28: ='Region ___'!C28+'Region ___ (2)'!C28+'Region ___ (3)'!C28 -> 0 | D28: ='Region ___'!D28+'Region ___ (2)'!D28+'Region ___ (3)'!D28 -> 0 | E28: =SUM(B28:D28) -> 0
A29: Respite | B29: ='Region ___'!B29+'Region ___ (2)'!B29+'Region ___ (3)'!B29 -> 0 | C29: ='Region ___'!C29+'Region ___ (2)'!C29+'Region ___ (3)'!C29 -> 0 | D29: ='Region ___'!D29+'Region ___ (2)'!D29+'Region ___ (3)'!D29 -> 0 | E29: =SUM(B29:D29) -> 0
A30: Extended Respite | B30: ='Region ___'!B30+'Region ___ (2)'!B30+'Region ___ (3)'!B30 -> 0 | C30: ='Region ___'!C30+'Region ___ (2)'!C30+'Region ___ (3)'!C30 -> 0 | D30: ='Region ___'!D30+'Region ___ (2)'!D30+'Region ___ (3)'!D30 -> 0 | E30: =SUM(B30:D30) -> 0
A31: SIH Personal Care | B31: ='Region ___'!B31+'Region ___ (2)'!B31+'Region ___ (3)'!B31 -> 0 | C31: ='Region ___'!C31+'Region ___ (2)'!C31+'Region ___ (3)'!C31 -> 0 | D31: ='Region ___'!D31+'Region ___ (2)'!D31+'Region ___ (3)'!D31 -> 0 | E31: =SUM(B31:D31) -> 0
A32: Service Coordination | B32: ='Region ___'!B32+'Region ___ (2)'!B32+'Region ___ (3)'!B32 -> 0 | C32: ='Region ___'!C32+'Region ___ (2)'!C32+'Region ___ (3)'!C32 -> 0 | D32: ='Region ___'!D32+'Region ___ (2)'!D32+'Region ___ (3)'!D32 -> 0 | E32: =SUM(B32:D32) -> 0
A33: Supplemental Services | B33: ='Region ___'!B33+'Region ___ (2)'!B33+'Region ___ (3)'!B33 -> 0 | C33: ='Region ___'!C33+'Region ___ (2)'!C33+'Region ___ (3)'!C33 -> 0 | D33: ='Region ___'!D33+'Region ___ (2)'!D33+'Region ___ (3)'!D33 -> 0 | E33: =SUM(B33:D33) -> 0
A34: Unregistered Information and Assistance | B34: ='Region ___'!B34+'Region ___ (2)'!B34+'Region ___ (3)'!B34 -> 0 | C34: ='Region ___'!C34+'Region ___ (2)'!C34+'Region ___ (3)'!C34 -> 0 | D34: ='Region ___'!D34+'Region ___ (2)'!D34+'Region ___ (3)'!D34 -> 0 | E34: =SUM(B34:D34) -> 0
A35: Unregistered Services (Outreach/Community Ed) | B35: ='Region ___'!B35+'Region ___ (2)'!B35+'Region ___ (3)'!B35 -> 0 | C35: ='Region ___'!C35+'Region ___ (2)'!C35+'Region ___ (3)'!C35 -> 0 | D35: ='Region ___'!D35+'Region ___ (2)'!D35+'Region ___ (3)'!D35 -> 0 | E35: =SUM(B35:D35) -> 0
A36: Total | B36: =SUM(B27:B33) -> 0 | C36: =SUM(C27:C35) -> 0 | D36: =SUM(D27:D35) -> 0 | E36: =SUM(E27:E35) -> 0
C37: Totals must match totals on budget form*
